BEGIN:VCALENDAR
VERSION:2.0
PRODID:-//hacksw/handcal//NONSGML v1.0//EN
CALSCALE:GREGORIAN
BEGIN:VEVENT
SUMMARY:Συνέδριο &#8211\; «Ο ρόλος των ΜΜΕ σε διαιρεμένες κοινωνίες: Η περίπτωση του Κοσόβου»\, 9-12/03/11
DESCRIPTION:
DTSTART:20110309T150000Z
DTEND:20110311T220000Z
LOCATION:Ξενοδοχείο " Ηλέκτρα Παλλάς"
URL;VALUE=URI:https://www.eliamep.gr/event/workshop-the-role-and-impact-of-media-in-divided-societies-and-conflict-ridden-democracies-the-case-of-the-conflict-over-kosovo-9-120311/
DTSTAMP:20211127T094338Z
UID:61a1fdcaf0b35
END:VEVENT
END:VCALENDAR