BEGIN:VCALENDAR
VERSION:2.0
PRODID:-//hacksw/handcal//NONSGML v1.0//EN
CALSCALE:GREGORIAN
BEGIN:VEVENT
SUMMARY:Turkish teens know little about Europe
DESCRIPTION:
DTSTART:20080506T210000Z
DTEND:20080506T210000Z
LOCATION:
URL;VALUE=URI:https://www.eliamep.gr/event/turkish-teens-know-little-about-europe/
DTSTAMP:20211127T092215Z
UID:61a1f8c7384f4
END:VEVENT
END:VCALENDAR