BEGIN:VCALENDAR
VERSION:2.0
PRODID:-//hacksw/handcal//NONSGML v1.0//EN
CALSCALE:GREGORIAN
BEGIN:VEVENT
SUMMARY:The Future of Voting in America: Μία συζήτηση για το εκλογικό σύστημα των ΗΠΑ
DESCRIPTION:
DTSTART:20180314T163000Z
DTEND:20180313T220000Z
LOCATION:Μουσείο Κυκλαδικής Τέχνης στην Αθήνα
URL;VALUE=URI:https://www.eliamep.gr/event/the-future-of-voting-in-america-%ce%bc%ce%af%ce%b1-%cf%83%cf%85%ce%b6%ce%ae%cf%84%ce%b7%cf%83%ce%b7-%ce%b3%ce%b9%ce%b1-%cf%84%ce%bf-%ce%b5%ce%ba%ce%bb%ce%bf%ce%b3%ce%b9%ce%ba%cf%8c-%cf%83%cf%8d%cf%83/
DTSTAMP:20211127T092023Z
UID:61a1f857a9a4b
END:VEVENT
END:VCALENDAR