BEGIN:VCALENDAR
VERSION:2.0
PRODID:-//hacksw/handcal//NONSGML v1.0//EN
CALSCALE:GREGORIAN
BEGIN:VEVENT
SUMMARY:TARGET Workshop: Εντάσσοντας τη διάσταση του φύλου στην έρευνα
DESCRIPTION:
DTSTART:20180702T103000Z
DTEND:20180702T143000Z
LOCATION:Ξενοδοχείο Electra Metropolis\, Μητροπόλεως 15
URL;VALUE=URI:https://www.eliamep.gr/event/target-workshop2-july2018/
DTSTAMP:20211127T080112Z
UID:61a1e5c86c3b4
END:VEVENT
END:VCALENDAR