BEGIN:VCALENDAR
VERSION:2.0
PRODID:-//hacksw/handcal//NONSGML v1.0//EN
CALSCALE:GREGORIAN
BEGIN:VEVENT
SUMMARY:Εισήγηση του Θάνου Μαρούκη\, ερευνητή της Ομάδας Μετανάστευσης του ΕΛΙΑΜΕΠ\, στην Βουλή
DESCRIPTION:
DTSTART:20110329T210000Z
DTEND:20110329T210000Z
LOCATION:
URL;VALUE=URI:https://www.eliamep.gr/event/speech-of-thanos-maroukis-researcher-of-the-eliamep-migration-team-in-the-hellenic-parliament/
DTSTAMP:20211127T075520Z
UID:61a1e468e5e1b
END:VEVENT
END:VCALENDAR