BEGIN:VCALENDAR
VERSION:2.0
PRODID:-//hacksw/handcal//NONSGML v1.0//EN
CALSCALE:GREGORIAN
BEGIN:VEVENT
SUMMARY:Οράματα για την Ευρώπη &#8211\; Κολλέγιο της Ευρώπης
DESCRIPTION:
DTSTART:20070516T210000Z
DTEND:20211126T220000Z
LOCATION:
URL;VALUE=URI:https://www.eliamep.gr/event/oramata-gia-tin-evropi-kollegio-tis-evropis/
DTSTAMP:20211127T092218Z
UID:61a1f8ca8e6ec
END:VEVENT
END:VCALENDAR