BEGIN:VCALENDAR
VERSION:2.0
PRODID:-//hacksw/handcal//NONSGML v1.0//EN
CALSCALE:GREGORIAN
BEGIN:VEVENT
SUMMARY:Η Μεταναστευτική Πολιτική στην Ελλάδα
DESCRIPTION:
DTSTART:20090921T210000Z
DTEND:20090921T210000Z
LOCATION:Γραφεία του ΕΛΙΑΜΕΠ\, Λεωφόρος Βασιλίσσης Σοφίας 49\, Αθήνα 10676
URL;VALUE=URI:https://www.eliamep.gr/event/migration-policy-in-greece/
DTSTAMP:20211127T092210Z
UID:61a1f8c2bf0ad
END:VEVENT
END:VCALENDAR