BEGIN:VCALENDAR
VERSION:2.0
PRODID:-//hacksw/handcal//NONSGML v1.0//EN
CALSCALE:GREGORIAN
BEGIN:VEVENT
SUMMARY:Εκπαίδευση : εργαλείο πολιτιστικής ευαισθητοποίησης
DESCRIPTION:
DTSTART:20081123T220000Z
DTEND:20211126T220000Z
LOCATION:
URL;VALUE=URI:https://www.eliamep.gr/event/education-a-tool-of-cultural-awareness/
DTSTAMP:20211127T092216Z
UID:61a1f8c84b884
END:VEVENT
END:VCALENDAR