BEGIN:VCALENDAR
VERSION:2.0
PRODID:-//hacksw/handcal//NONSGML v1.0//EN
CALSCALE:GREGORIAN
BEGIN:VEVENT
SUMMARY:Conference\, &#8220\;The Impact of Climate Change in the Mediterranean &#8211\; Designing Adaptation and Implementation Strategies&#8221\;\, 24-25/02/11
DESCRIPTION:
DTSTART:20110224T070000Z
DTEND:20110224T220000Z
LOCATION:
URL;VALUE=URI:https://www.eliamep.gr/event/conference-the-impact-of-climate-change-in-the-mediterranean-designing-adaptation-and-implementation-strategies-24-250211/
DTSTAMP:20211127T094338Z
UID:61a1fdca69133
END:VEVENT
END:VCALENDAR