BEGIN:VCALENDAR
VERSION:2.0
PRODID:-//hacksw/handcal//NONSGML v1.0//EN
CALSCALE:GREGORIAN
BEGIN:VEVENT
SUMMARY:Blog-Διάλογοι – Παράτυπη μετανάστευση και αδήλωτη εργασία: ποια είναι η πραγματικότητα\;
DESCRIPTION:
DTSTART:20100926T210000Z
DTEND:20100926T210000Z
LOCATION:
URL;VALUE=URI:https://www.eliamep.gr/event/blog-dialogi-%e2%80%93-paratipi-metanastefsi-ke-adiloti-ergasia-pia-ine-i-pragmatikotita/
DTSTAMP:20211127T092209Z
UID:61a1f8c115aa1
END:VEVENT
END:VCALENDAR