BEGIN:VCALENDAR
VERSION:2.0
PRODID:-//hacksw/handcal//NONSGML v1.0//EN
CALSCALE:GREGORIAN
BEGIN:VEVENT
SUMMARY:Anna Triandafyllidou &#8211\; European citizens uneasy about immigration
DESCRIPTION:
DTSTART:20060309T220000Z
DTEND:20211126T220000Z
LOCATION:
URL;VALUE=URI:https://www.eliamep.gr/event/anna-triandafyllidou-european-citizens-uneasy-about-immigration/
DTSTAMP:20211127T092217Z
UID:61a1f8c954039
END:VEVENT
END:VCALENDAR