BEGIN:VCALENDAR
VERSION:2.0
PRODID:-//hacksw/handcal//NONSGML v1.0//EN
CALSCALE:GREGORIAN
BEGIN:VEVENT
SUMMARY:Actions
DESCRIPTION:
DTSTART:20070831T210000Z
DTEND:20070831T210000Z
LOCATION:
URL;VALUE=URI:https://www.eliamep.gr/event/actions/
DTSTAMP:20211127T075458Z
UID:61a1e452bb3dc
END:VEVENT
END:VCALENDAR