BEGIN:VCALENDAR
VERSION:2.0
PRODID:-//hacksw/handcal//NONSGML v1.0//EN
CALSCALE:GREGORIAN
BEGIN:VEVENT
SUMMARY:Το μέλλον της Ευρωπαϊκής Άμυνας – Χρειάζεται περισσότερη ολοκλήρωση\;
DESCRIPTION:
DTSTART:20180620T153000Z
DTEND:20180619T210000Z
LOCATION:
URL;VALUE=URI:https://www.eliamep.gr/event/%cf%84%ce%bf-%ce%bc%ce%ad%ce%bb%ce%bb%ce%bf%ce%bd-%cf%84%ce%b7%cf%82-%ce%b5%cf%85%cf%81%cf%89%cf%80%ce%b1%cf%8a%ce%ba%ce%ae%cf%82-%ce%ac%ce%bc%cf%85%ce%bd%ce%b1%cf%82-%cf%87%cf%81%ce%b5/
DTSTAMP:20211127T092022Z
UID:61a1f85608a80
END:VEVENT
END:VCALENDAR