BEGIN:VCALENDAR
VERSION:2.0
PRODID:-//hacksw/handcal//NONSGML v1.0//EN
CALSCALE:GREGORIAN
BEGIN:VEVENT
SUMMARY:Κλειστή συζήτηση με θέμα «Ανατολική Μεσόγειος 2020: Εξελίξεις σε Ζητήματα Ασφάλειας»\, 22-24/10/2015
DESCRIPTION:
DTSTART:20151021T210000Z
DTEND:20151023T210000Z
LOCATION:
URL;VALUE=URI:https://www.eliamep.gr/event/%cf%83%cf%85%ce%bd%ce%ad%ce%b4%cf%81%ce%b9%ce%bf-%ce%bc%ce%b5-%ce%b8%ce%ad%ce%bc%ce%b1-%ce%b1%ce%bd%ce%b1%cf%84%ce%bf%ce%bb%ce%b9%ce%ba%ce%ae-%ce%bc%ce%b5%cf%83%cf%8c%ce%b3%ce%b5%ce%b9%ce%bf/
DTSTAMP:20211127T085658Z
UID:61a1f2da0376a
END:VEVENT
END:VCALENDAR