BEGIN:VCALENDAR
VERSION:2.0
PRODID:-//hacksw/handcal//NONSGML v1.0//EN
CALSCALE:GREGORIAN
BEGIN:VEVENT
SUMMARY:Συζήτηση για την ενίσχυση της διασυνοριακής οικονομικής συνεργασίας της Ελλάδας με τις γείτονες χώρες\, 28/11/2014
DESCRIPTION:
DTSTART:20141127T220000Z
DTEND:20141127T220000Z
LOCATION:ξενοδοχείο Electra Palace
URL;VALUE=URI:https://www.eliamep.gr/event/%cf%83%cf%85%ce%b6%ce%ae%cf%84%ce%b7%cf%83%ce%b7-%ce%b3%ce%b9%ce%b1-%cf%84%ce%b7%ce%bd-%ce%b5%ce%bd%ce%af%cf%83%cf%87%cf%85%cf%83%ce%b7-%cf%84%ce%b7%cf%82-%ce%b4%ce%b9%ce%b1%cf%83%cf%85%ce%bd%ce%bf/
DTSTAMP:20211127T091924Z
UID:61a1f81c66299
END:VEVENT
END:VCALENDAR