BEGIN:VCALENDAR
VERSION:2.0
PRODID:-//hacksw/handcal//NONSGML v1.0//EN
CALSCALE:GREGORIAN
BEGIN:VEVENT
SUMMARY:Σε παρουσίαση μελέτης του EPC για την ευρωπαϊκή διεύρυνση στα Βαλκάνια συμμετείχε ο Δρ. Ιωάννης Αρμακόλας
DESCRIPTION:
DTSTART:20150928T210000Z
DTEND:20150928T210000Z
LOCATION:
URL;VALUE=URI:https://www.eliamep.gr/event/%cf%83%ce%b5-%cf%80%ce%b1%cf%81%ce%bf%cf%85%cf%83%ce%af%ce%b1%cf%83%ce%b7-%ce%bc%ce%b5%ce%bb%ce%ad%cf%84%ce%b7%cf%82-%cf%84%ce%bf%cf%85-epc-%ce%b3%ce%b9%ce%b1-%cf%84%ce%b7%ce%bd-%ce%b5%cf%85%cf%81/
DTSTAMP:20211127T091921Z
UID:61a1f8190c8b3
END:VEVENT
END:VCALENDAR