BEGIN:VCALENDAR
VERSION:2.0
PRODID:-//hacksw/handcal//NONSGML v1.0//EN
CALSCALE:GREGORIAN
BEGIN:VEVENT
SUMMARY:Ομάδα εστίασης για τη διαφθορά και τη χρηστή διακυβέρνηση στην Ελλάδα\, 21/10/2016
DESCRIPTION:
DTSTART:20161020T210000Z
DTEND:20161020T210000Z
LOCATION:
URL;VALUE=URI:https://www.eliamep.gr/event/%ce%bf%ce%bc%ce%ac%ce%b4%ce%b1-%ce%b5%cf%83%cf%84%ce%af%ce%b1%cf%83%ce%b7%cf%82-%ce%b3%ce%b9%ce%b1-%cf%84%ce%b7-%ce%b4%ce%b9%ce%b1%cf%86%ce%b8%ce%bf%cf%81%ce%ac-%ce%ba%ce%b1%ce%b9-%cf%84%ce%b7-%cf%87/
DTSTAMP:20211127T082935Z
UID:61a1ec6ff420e
END:VEVENT
END:VCALENDAR