BEGIN:VCALENDAR
VERSION:2.0
PRODID:-//hacksw/handcal//NONSGML v1.0//EN
CALSCALE:GREGORIAN
BEGIN:VEVENT
SUMMARY:Κλειστή συζήτηση: «Συριακή Προσφυγική Κρίση – Πρόταση για μια Ορθολογική Προσέγγιση»\, 2 Φεβρουαρίου 2016
DESCRIPTION:
DTSTART:20160201T220000Z
DTEND:20160201T220000Z
LOCATION:
URL;VALUE=URI:https://www.eliamep.gr/event/%ce%ba%ce%bb%ce%b5%ce%b9%cf%83%cf%84%ce%ae-%cf%83%cf%85%ce%b6%ce%ae%cf%84%ce%b7%cf%83%ce%b7-%cf%83%cf%85%cf%81%ce%b9%ce%b1%ce%ba%ce%ae-%cf%80%cf%81%ce%bf%cf%83%cf%86%cf%85%ce%b3%ce%b9%ce%ba/
DTSTAMP:20211127T092219Z
UID:61a1f8cb25791
END:VEVENT
END:VCALENDAR