BEGIN:VCALENDAR
VERSION:2.0
PRODID:-//hacksw/handcal//NONSGML v1.0//EN
CALSCALE:GREGORIAN
BEGIN:VEVENT
SUMMARY:Κλειστή εκδήλωση &#8220\;Ελληνο-Βουλγαρικές σχέσεις: Τρέχουσα κατάσταση και προοπτικές&#8221\;\, 10 Μαρτίου 2017
DESCRIPTION:
DTSTART:20170309T220000Z
DTEND:20170309T220000Z
LOCATION:ΕΛΙΑΜΕΠ
URL;VALUE=URI:https://www.eliamep.gr/event/%ce%ba%ce%bb%ce%b5%ce%b9%cf%83%cf%84%ce%ae-%ce%b5%ce%ba%ce%b4%ce%ae%ce%bb%cf%89%cf%83%ce%b7-%ce%b5%ce%bb%ce%bb%ce%b7%ce%bd%ce%bf-%ce%b2%ce%bf%cf%85%ce%bb%ce%b3%ce%b1%cf%81%ce%b9%ce%ba%ce%ad%cf%82/
DTSTAMP:20211127T091918Z
UID:61a1f816d4091
END:VEVENT
END:VCALENDAR