BEGIN:VCALENDAR
VERSION:2.0
PRODID:-//hacksw/handcal//NONSGML v1.0//EN
CALSCALE:GREGORIAN
BEGIN:VEVENT
SUMMARY:Ημερίδα: «Πώς Παρουσιάζουν τα Ελληνικά ΜΜΕ τους Αλβανούς\; Πώς Παρουσιάζουν τα Αλβανικά ΜΜΕ τους Έλληνες\; Τα Πορίσματα Σχετικών Ερευνητικών Προγραμμάτων»\, 07/12/2016
DESCRIPTION:
DTSTART:20161206T220000Z
DTEND:20161206T220000Z
LOCATION:
URL;VALUE=URI:https://www.eliamep.gr/event/%ce%b7%ce%bc%ce%b5%cf%81%ce%af%ce%b4%ce%b1-%cf%80%cf%8e%cf%82-%cf%80%ce%b1%cf%81%ce%bf%cf%85%cf%83%ce%b9%ce%ac%ce%b6%ce%bf%cf%85%ce%bd-%cf%84%ce%b1-%ce%b5%ce%bb%ce%bb%ce%b7%ce%bd%ce%b9%ce%ba%ce%ac/
DTSTAMP:20211127T091913Z
UID:61a1f811cb8c2
END:VEVENT
END:VCALENDAR