BEGIN:VCALENDAR
VERSION:2.0
PRODID:-//hacksw/handcal//NONSGML v1.0//EN
CALSCALE:GREGORIAN
BEGIN:VEVENT
SUMMARY:Ημερίδα «Ευρωπαϊκό Σώμα Αλληλεγγύης»\, Παρασκευή 17 Μαρτίου 2017
DESCRIPTION:
DTSTART:20170317T160000Z
DTEND:20170317T183000Z
LOCATION:Impact Hub (Καραϊσκάκη 28\, Αθήνα)
URL;VALUE=URI:https://www.eliamep.gr/event/%ce%b7%ce%bc%ce%b5%cf%81%ce%af%ce%b4%ce%b1-%ce%b5%cf%85%cf%81%cf%89%cf%80%ce%b1%cf%8a%ce%ba%cf%8c-%cf%83%cf%8e%ce%bc%ce%b1-%ce%b1%ce%bb%ce%bb%ce%b7%ce%bb%ce%b5%ce%b3%ce%b3%cf%8d%ce%b7%cf%82/
DTSTAMP:20211127T093352Z
UID:61a1fb80c44b3
END:VEVENT
END:VCALENDAR