BEGIN:VCALENDAR
VERSION:2.0
PRODID:-//hacksw/handcal//NONSGML v1.0//EN
CALSCALE:GREGORIAN
BEGIN:VEVENT
SUMMARY:Εκπαιδευτική Hμερίδα με θέμα «Πρόσφυγες\, Θύματα Εμπορίας Ανθρώπων ή και τα δύο: Το Καθεστώς Προστασίας στην Ευρωπαϊκή  Ένωση και στο Συμβούλιο της Ευρώπης»\,  29 &#038\; 30/07/2015
DESCRIPTION:
DTSTART:20150728T210000Z
DTEND:20150729T210000Z
LOCATION:Υπουργείο Εξωτερικών (Βασ. Σοφίας 1\, Αίθουσα Σοφιανοπούλου).
URL;VALUE=URI:https://www.eliamep.gr/event/%ce%b5%ce%ba%cf%80%ce%b1%ce%b9%ce%b4%ce%b5%cf%85%cf%84%ce%b9%ce%ba%ce%ae-h%ce%bc%ce%b5%cf%81%ce%af%ce%b4%ce%b1-%ce%bc%ce%b5-%ce%b8%ce%ad%ce%bc%ce%b1-%cf%80%cf%81%cf%8c%cf%83%cf%86%cf%85%ce%b3/
DTSTAMP:20211127T092221Z
UID:61a1f8cdc1046
END:VEVENT
END:VCALENDAR