BEGIN:VCALENDAR
VERSION:2.0
PRODID:-//hacksw/handcal//NONSGML v1.0//EN
CALSCALE:GREGORIAN
BEGIN:VEVENT
SUMMARY:«Φόβος\, ανησυχία και εθνική ταυτότητα: Συγκρίνοντας τις εμπειρίες και το δημόσιο διάλογο της Βόρειας Αμερικής και της Ευρώπης»
DESCRIPTION:
DTSTART:20111208T220000Z
DTEND:20111209T220000Z
LOCATION:Russell Sage Foundation στη Νέα Υόρκη
URL;VALUE=URI:https://www.eliamep.gr/event/%c2%ab%cf%86%cf%8c%ce%b2%ce%bf%cf%82-%ce%b1%ce%bd%ce%b7%cf%83%cf%85%cf%87%ce%af%ce%b1-%ce%ba%ce%b1%ce%b9-%ce%b5%ce%b8%ce%bd%ce%b9%ce%ba%ce%ae-%cf%84%ce%b1%cf%85%cf%84%cf%8c%cf%84%ce%b7%cf%84%ce%b1/
DTSTAMP:20211127T092212Z
UID:61a1f8c459b20
END:VEVENT
END:VCALENDAR