BEGIN:VCALENDAR
VERSION:2.0
PRODID:-//hacksw/handcal//NONSGML v1.0//EN
CALSCALE:GREGORIAN
BEGIN:VEVENT
SUMMARY:Workshop\, &#8220\;The role and impact of media in divided societies and conflict ridden democracies: the case of the conflict over Kosovo&#8221\;\, 9-12/03/11
DESCRIPTION:
DTSTART:20110309T150000Z
DTEND:20110311T220000Z
LOCATION:Electra Palace Hotel
URL;VALUE=URI:https://www.eliamep.gr/en/event/workshop-the-role-and-impact-of-media-in-divided-societies-and-conflict-ridden-democracies-the-case-of-the-conflict-over-kosovo-9-120311/
DTSTAMP:20211127T075026Z
UID:61a1e342cca8d
END:VEVENT
END:VCALENDAR