BEGIN:VCALENDAR
VERSION:2.0
PRODID:-//hacksw/handcal//NONSGML v1.0//EN
CALSCALE:GREGORIAN
BEGIN:VEVENT
SUMMARY:Working seminar on ‘Media policy recommendations for the development of free and independent media in Slovakia’
DESCRIPTION:
DTSTART:20120606T210000Z
DTEND:20211126T220000Z
LOCATION:Gaudio hotel in Bratislava\, Slovakia
URL;VALUE=URI:https://www.eliamep.gr/en/event/working-seminar-on-media-policy-recommendations-for-the-development-of-free-and-independent-media-in-slovakia/
DTSTAMP:20211127T083123Z
UID:61a1ecdba7c6f
END:VEVENT
END:VCALENDAR