BEGIN:VCALENDAR
VERSION:2.0
PRODID:-//hacksw/handcal//NONSGML v1.0//EN
CALSCALE:GREGORIAN
BEGIN:VEVENT
SUMMARY:Working Group on the EU&#8217\;s Eastern Neighbourhood
DESCRIPTION:
DTSTART:20081203T220000Z
DTEND:20081203T220000Z
LOCATION:Berlin\, Germany
URL;VALUE=URI:https://www.eliamep.gr/en/event/working-group-on-the-eus-eastern-neighbourhood/
DTSTAMP:20211127T094936Z
UID:61a1ff30e777f
END:VEVENT
END:VCALENDAR