BEGIN:VCALENDAR
VERSION:2.0
PRODID:-//hacksw/handcal//NONSGML v1.0//EN
CALSCALE:GREGORIAN
BEGIN:VEVENT
SUMMARY:Visions of Europe &#8211\; Book presentation
DESCRIPTION:
DTSTART:20071119T220000Z
DTEND:20211126T220000Z
LOCATION:
URL;VALUE=URI:https://www.eliamep.gr/en/event/visions-of-europe-book-presentation/
DTSTAMP:20211127T092230Z
UID:61a1f8d68127b
END:VEVENT
END:VCALENDAR