BEGIN:VCALENDAR
VERSION:2.0
PRODID:-//hacksw/handcal//NONSGML v1.0//EN
CALSCALE:GREGORIAN
BEGIN:VEVENT
SUMMARY:Venusberg Group: Beyond 2010 – European Strategy in a Global Age
DESCRIPTION:
DTSTART:20080213T220000Z
DTEND:20080214T220000Z
LOCATION:Stockholm\, Sweden
URL;VALUE=URI:https://www.eliamep.gr/en/event/venusberg-group-beyond-2010-%e2%80%93-european-strategy-in-a-global-age/
DTSTAMP:20211127T094802Z
UID:61a1fed22fff7
END:VEVENT
END:VCALENDAR