BEGIN:VCALENDAR
VERSION:2.0
PRODID:-//hacksw/handcal//NONSGML v1.0//EN
CALSCALE:GREGORIAN
BEGIN:VEVENT
SUMMARY:Το ίδρυμα Ελένη Νάκου
DESCRIPTION:
DTSTART:19900627T210000Z
DTEND:19900627T210000Z
LOCATION:
URL;VALUE=URI:https://www.eliamep.gr/en/event/to-idrima-eleni-nakou/
DTSTAMP:20211127T081011Z
UID:61a1e7e3b14e0
END:VEVENT
END:VCALENDAR