BEGIN:VCALENDAR
VERSION:2.0
PRODID:-//hacksw/handcal//NONSGML v1.0//EN
CALSCALE:GREGORIAN
BEGIN:VEVENT
SUMMARY:Thucydides and the democratic peace theory
DESCRIPTION:
DTSTART:20060607T210000Z
DTEND:20060607T210000Z
LOCATION:Event Hall of Alexander S. Onassis Foundation
56 Amalias Ave.
Athens
URL;VALUE=URI:https://www.eliamep.gr/en/event/thucydides-and-the-democratic-peace-theory/
DTSTAMP:20211127T092052Z
UID:61a1f874c976e
END:VEVENT
END:VCALENDAR