BEGIN:VCALENDAR
VERSION:2.0
PRODID:-//hacksw/handcal//NONSGML v1.0//EN
CALSCALE:GREGORIAN
BEGIN:VEVENT
SUMMARY:Third Think Tank Forum
DESCRIPTION:
DTSTART:20080919T093000Z
DTEND:20080918T210000Z
LOCATION:Château de la Muette – OECD – 2 rue André Pascal\, 75016 Paris
URL;VALUE=URI:https://www.eliamep.gr/en/event/third-think-tank-forum/
DTSTAMP:20211127T094942Z
UID:61a1ff36ef4a9
END:VEVENT
END:VCALENDAR