BEGIN:VCALENDAR
VERSION:2.0
PRODID:-//hacksw/handcal//NONSGML v1.0//EN
CALSCALE:GREGORIAN
BEGIN:VEVENT
SUMMARY:Third Meeting of US-European Working Group on Security and Defence
DESCRIPTION:
DTSTART:20080315T220000Z
DTEND:20080616T210000Z
LOCATION:Washington DC\, USA
URL;VALUE=URI:https://www.eliamep.gr/en/event/third-meeting-of-us-european-working-group-on-security-and-defence/
DTSTAMP:20211127T094815Z
UID:61a1fedf05517
END:VEVENT
END:VCALENDAR