BEGIN:VCALENDAR
VERSION:2.0
PRODID:-//hacksw/handcal//NONSGML v1.0//EN
CALSCALE:GREGORIAN
BEGIN:VEVENT
SUMMARY:The US Agenda in the Balkans and the Black Sea
DESCRIPTION:
DTSTART:20050602T210000Z
DTEND:20050602T210000Z
LOCATION:Athens\, Greece
URL;VALUE=URI:https://www.eliamep.gr/en/event/the-us-agenda-in-the-balkans-and-the-black-sea/
DTSTAMP:20211127T090925Z
UID:61a1f5c5106a1
END:VEVENT
END:VCALENDAR