BEGIN:VCALENDAR
VERSION:2.0
PRODID:-//hacksw/handcal//NONSGML v1.0//EN
CALSCALE:GREGORIAN
BEGIN:VEVENT
SUMMARY:The U.S. and Greece in Today’s World
DESCRIPTION:
DTSTART:20050307T220000Z
DTEND:20050307T220000Z
LOCATION:Zappeion Hall\, Athens
URL;VALUE=URI:https://www.eliamep.gr/en/event/the-u-s-and-greece-in-today%e2%80%99s-world/
DTSTAMP:20211127T090929Z
UID:61a1f5c99ab16
END:VEVENT
END:VCALENDAR