BEGIN:VCALENDAR
VERSION:2.0
PRODID:-//hacksw/handcal//NONSGML v1.0//EN
CALSCALE:GREGORIAN
BEGIN:VEVENT
SUMMARY:«The Italian media system»
DESCRIPTION:
DTSTART:20110324T220000Z
DTEND:20110324T220000Z
LOCATION:Florence
URL;VALUE=URI:https://www.eliamep.gr/en/event/the-italian-media-system/
DTSTAMP:20211127T083114Z
UID:61a1ecd259429
END:VEVENT
END:VCALENDAR