BEGIN:VCALENDAR
VERSION:2.0
PRODID:-//hacksw/handcal//NONSGML v1.0//EN
CALSCALE:GREGORIAN
BEGIN:VEVENT
SUMMARY:The future status of Kosovo: Euroatlantic integration or a return to a time of conflict?
DESCRIPTION:
DTSTART:20060110T220000Z
DTEND:20060110T220000Z
LOCATION:Athens\, Greece
URL;VALUE=URI:https://www.eliamep.gr/en/event/the-future-status-of-kosovo-euroatlantic-integration-or-a-return-to-a-time-of-conflict/
DTSTAMP:20211127T090936Z
UID:61a1f5d052543
END:VEVENT
END:VCALENDAR