BEGIN:VCALENDAR
VERSION:2.0
PRODID:-//hacksw/handcal//NONSGML v1.0//EN
CALSCALE:GREGORIAN
BEGIN:VEVENT
SUMMARY:The future of British-American security relations
DESCRIPTION:
DTSTART:20060123T220000Z
DTEND:20060123T220000Z
LOCATION:Athens\, Greece
URL;VALUE=URI:https://www.eliamep.gr/en/event/the-future-of-british-american-security-relations/
DTSTAMP:20211127T092052Z
UID:61a1f87448dd9
END:VEVENT
END:VCALENDAR