BEGIN:VCALENDAR
VERSION:2.0
PRODID:-//hacksw/handcal//NONSGML v1.0//EN
CALSCALE:GREGORIAN
BEGIN:VEVENT
SUMMARY:The European Union&#8217\;s Soft Power: A force for change
DESCRIPTION:
DTSTART:20071023T210000Z
DTEND:20071023T210000Z
LOCATION:
URL;VALUE=URI:https://www.eliamep.gr/en/event/the-european-unions-soft-power-a-force-for-change/
DTSTAMP:20211127T094919Z
UID:61a1ff1f6e827
END:VEVENT
END:VCALENDAR