BEGIN:VCALENDAR
VERSION:2.0
PRODID:-//hacksw/handcal//NONSGML v1.0//EN
CALSCALE:GREGORIAN
BEGIN:VEVENT
SUMMARY:The European Future of Serbia and Kosovo
DESCRIPTION:
DTSTART:20070521T210000Z
DTEND:20070521T210000Z
LOCATION:Athens\, Greece
URL;VALUE=URI:https://www.eliamep.gr/en/event/the-european-future-of-serbia-and-kosovo/
DTSTAMP:20211127T094915Z
UID:61a1ff1b06188
END:VEVENT
END:VCALENDAR