BEGIN:VCALENDAR
VERSION:2.0
PRODID:-//hacksw/handcal//NONSGML v1.0//EN
CALSCALE:GREGORIAN
BEGIN:VEVENT
SUMMARY:The Cyprus stalemate: What next?
DESCRIPTION:
DTSTART:20060315T220000Z
DTEND:20060315T220000Z
LOCATION:Athens\, Greece
URL;VALUE=URI:https://www.eliamep.gr/en/event/the-cyprus-stalemate-what-next/
DTSTAMP:20211127T094800Z
UID:61a1fed02394b
END:VEVENT
END:VCALENDAR