BEGIN:VCALENDAR
VERSION:2.0
PRODID:-//hacksw/handcal//NONSGML v1.0//EN
CALSCALE:GREGORIAN
BEGIN:VEVENT
SUMMARY:The Cyprus issue after the EU Summit
DESCRIPTION:
DTSTART:20050126T220000Z
DTEND:20050126T220000Z
LOCATION:ELIAMEP offices
49 Vas. Sofias Ave.
106 76 Athens
URL;VALUE=URI:https://www.eliamep.gr/en/event/the-cyprus-issue-after-the-eu-summit/
DTSTAMP:20211127T080916Z
UID:61a1e7acd8bf6
END:VEVENT
END:VCALENDAR