BEGIN:VCALENDAR
VERSION:2.0
PRODID:-//hacksw/handcal//NONSGML v1.0//EN
CALSCALE:GREGORIAN
BEGIN:VEVENT
SUMMARY:Ten Years of EMU: Greece and the Two-Track Danger
DESCRIPTION:
DTSTART:20080617T210000Z
DTEND:20080617T210000Z
LOCATION:Athens\, Greece
URL;VALUE=URI:https://www.eliamep.gr/en/event/ten-years-of-emu-greece-and-the-two-track-danger/
DTSTAMP:20211127T094818Z
UID:61a1fee265ad8
END:VEVENT
END:VCALENDAR