BEGIN:VCALENDAR
VERSION:2.0
PRODID:-//hacksw/handcal//NONSGML v1.0//EN
CALSCALE:GREGORIAN
BEGIN:VEVENT
SUMMARY:Sustainable Agriculture and Communities: The Future of Rural Europe
DESCRIPTION:
DTSTART:20061130T220000Z
DTEND:20061130T220000Z
LOCATION:Hotel " Electra Palace"
9 Aristotelous Square\, 
54624 Thessaloniki\, Greece
URL;VALUE=URI:https://www.eliamep.gr/en/event/sustainable-agriculture-and-communities-the-future-of-rural-europe/
DTSTAMP:20211127T080950Z
UID:61a1e7cec7d61
END:VEVENT
END:VCALENDAR