BEGIN:VCALENDAR
VERSION:2.0
PRODID:-//hacksw/handcal//NONSGML v1.0//EN
CALSCALE:GREGORIAN
BEGIN:VEVENT
SUMMARY:Strategic Challenges Facing the EU – 12th Europaforum 2008
DESCRIPTION:
DTSTART:20081121T070000Z
DTEND:20081121T153000Z
LOCATION:Vienna\, Austria
URL;VALUE=URI:https://www.eliamep.gr/en/event/strategic-challenges-facing-the-eu-%e2%80%93-12th-europaforum-2008/
DTSTAMP:20211127T094939Z
UID:61a1ff330ed72
END:VEVENT
END:VCALENDAR