BEGIN:VCALENDAR
VERSION:2.0
PRODID:-//hacksw/handcal//NONSGML v1.0//EN
CALSCALE:GREGORIAN
BEGIN:VEVENT
SUMMARY:Sino-European Conference on EU Enlargement
DESCRIPTION:
DTSTART:20071010T210000Z
DTEND:20071011T210000Z
LOCATION:Munich\, Germany
URL;VALUE=URI:https://www.eliamep.gr/en/event/sino-european-conference-on-eu-enlargement/
DTSTAMP:20211127T095006Z
UID:61a1ff4e0b0f0
END:VEVENT
END:VCALENDAR