BEGIN:VCALENDAR
VERSION:2.0
PRODID:-//hacksw/handcal//NONSGML v1.0//EN
CALSCALE:GREGORIAN
BEGIN:VEVENT
SUMMARY:Conference: European Values and International Events in the Media
DESCRIPTION:
DTSTART:20070504T063000Z
DTEND:20070504T110000Z
LOCATION:Auditorium of European Commission
2 Vas. Sofias Str. \, Athens
URL;VALUE=URI:https://www.eliamep.gr/en/event/sinedrio-evropaikes-axies-ke-diethni-gegonota-sta-mesa-mazikis-enimerosis/
DTSTAMP:20211127T075739Z
UID:61a1e4f39858c
END:VEVENT
END:VCALENDAR