BEGIN:VCALENDAR
VERSION:2.0
PRODID:-//hacksw/handcal//NONSGML v1.0//EN
CALSCALE:GREGORIAN
BEGIN:VEVENT
SUMMARY:Serbia and the European Union
DESCRIPTION:
DTSTART:20080331T210000Z
DTEND:20211126T220000Z
LOCATION:
URL;VALUE=URI:https://www.eliamep.gr/en/event/serbia-and-the-european-union/
DTSTAMP:20211127T094808Z
UID:61a1fed89f34a
END:VEVENT
END:VCALENDAR