BEGIN:VCALENDAR
VERSION:2.0
PRODID:-//hacksw/handcal//NONSGML v1.0//EN
CALSCALE:GREGORIAN
BEGIN:VEVENT
SUMMARY:Serbia and the European Union
DESCRIPTION:
DTSTART:20080401T100000Z
DTEND:20080331T210000Z
LOCATION: Amphitheatre "Y. Kranidiotis"\, of the Ministry of Foreign Affairs\, 1\, Akadimias Street
URL;VALUE=URI:https://www.eliamep.gr/en/event/serbia-and-the-european-union-2/
DTSTAMP:20211127T094800Z
UID:61a1fed0f14c9
END:VEVENT
END:VCALENDAR