BEGIN:VCALENDAR
VERSION:2.0
PRODID:-//hacksw/handcal//NONSGML v1.0//EN
CALSCALE:GREGORIAN
BEGIN:VEVENT
SUMMARY:Security developments in the Gulf region
DESCRIPTION:
DTSTART:20051011T210000Z
DTEND:20051011T210000Z
LOCATION:Athens\, Greece
URL;VALUE=URI:https://www.eliamep.gr/en/event/security-developments-in-the-gulf-region/
DTSTAMP:20211127T090932Z
UID:61a1f5ccd8ee4
END:VEVENT
END:VCALENDAR