BEGIN:VCALENDAR
VERSION:2.0
PRODID:-//hacksw/handcal//NONSGML v1.0//EN
CALSCALE:GREGORIAN
BEGIN:VEVENT
SUMMARY:Second Meeting of US-European Working Group on Security and Defence
DESCRIPTION:
DTSTART:20080420T210000Z
DTEND:20080421T210000Z
LOCATION:Munich\, Germany
URL;VALUE=URI:https://www.eliamep.gr/en/event/second-meeting-of-us-european-working-group-on-security-and-defence/
DTSTAMP:20211127T094819Z
UID:61a1fee33f9f2
END:VEVENT
END:VCALENDAR